BEGIN:VCALENDAR
VERSION:2.0
PRODID:-//Scarborough Live - ECPv6.11.2.1//NONSGML v1.0//EN
CALSCALE:GREGORIAN
METHOD:PUBLISH
X-WR-CALNAME:Scarborough Live
X-ORIGINAL-URL:https://scarboroughlive.com.au
X-WR-CALDESC:Events for Scarborough Live
REFRESH-INTERVAL;VALUE=DURATION:PT1H
X-Robots-Tag:noindex
X-PUBLISHED-TTL:PT1H
BEGIN:VTIMEZONE
TZID:Asia/Shanghai
BEGIN:STANDARD
TZOFFSETFROM:+0800
TZOFFSETTO:+0800
TZNAME:CST
DTSTART:20260101T000000
END:STANDARD
END:VTIMEZONE
BEGIN:VEVENT
DTSTART;TZID=Asia/Shanghai:20260528T163000
DTEND;TZID=Asia/Shanghai:20260528T203000
DTSTAMP:20260422T041312
CREATED:20251121T035221Z
LAST-MODIFIED:20251121T035315Z
UID:10001609-1779985800-1780000200@scarboroughlive.com.au
SUMMARY:Scarborough Sunset Markets ~ Summer Season 25/26 @ Scarborough Sunset Markets
DESCRIPTION:🌞 Scarborough Sunset Markets 2025/26 – Summer Season is Back! \nThe sun’s out\, holidays are on the horizon\, and those long\, golden evenings are calling your name… which can only mean one thing – Scarborough Sunset Markets are BACK! \nFrom Thursday 6 November 2025 to 28 May 2026\, your favourite coastal ritual returns every week with epic eats\, artisan finds\, live tunes and that famous Indian Ocean sunset. \nThis season is all about slowing down and soaking it up – think salty air\, coastal chill\, delicious food from over 60+ foodies\, dreamy artisan stalls\, and laid-back acoustic sets in the Chill Out Lounge at the Scarborough Amphitheatre. \nSip\, snack and sink in – there’s even our pop-up beachside bar for those golden-hour moments. \n📆 Every Thursday | 5PM – 9PM\n📍Scarborough Beach Amphitheatre & The Esplanade\n✨Free Entry | Family & Dog Friendly\n#ScarboroughSunsetMarkets
URL:https://scarboroughlive.com.au/event/scarborough-sunset-markets-summer-season-25-26-scarborough-sunset-markets-28/
LOCATION:Scarborough Sunsets Markets
CATEGORIES:Entertainment,Food and Drink,Music
ATTACH;FMTTYPE=image/jpeg:https://scarboroughlive.com.au/wp-content/uploads/2025/11/559026702_807709851637987_6784020605831628858_n.jpg
END:VEVENT
BEGIN:VEVENT
DTSTART;TZID=Asia/Shanghai:20260521T163000
DTEND;TZID=Asia/Shanghai:20260521T203000
DTSTAMP:20260422T041312
CREATED:20251121T035202Z
LAST-MODIFIED:20251121T035202Z
UID:10001608-1779381000-1779395400@scarboroughlive.com.au
SUMMARY:Scarborough Sunset Markets ~ Summer Season 25/26 @ Scarborough Sunset Markets
DESCRIPTION:🌞 Scarborough Sunset Markets 2025/26 – Summer Season is Back! \nThe sun’s out\, holidays are on the horizon\, and those long\, golden evenings are calling your name… which can only mean one thing – Scarborough Sunset Markets are BACK! \nFrom Thursday 6 November 2025 to 28 May 2026\, your favourite coastal ritual returns every week with epic eats\, artisan finds\, live tunes and that famous Indian Ocean sunset. \nThis season is all about slowing down and soaking it up – think salty air\, coastal chill\, delicious food from over 60+ foodies\, dreamy artisan stalls\, and laid-back acoustic sets in the Chill Out Lounge at the Scarborough Amphitheatre. \nSip\, snack and sink in – there’s even our pop-up beachside bar for those golden-hour moments. \n📆 Every Thursday | 5PM – 9PM\n📍Scarborough Beach Amphitheatre & The Esplanade\n✨Free Entry | Family & Dog Friendly\n#ScarboroughSunsetMarkets
URL:https://scarboroughlive.com.au/event/scarborough-sunset-markets-summer-season-25-26-scarborough-sunset-markets-27/
LOCATION:Scarborough Sunsets Markets
CATEGORIES:Entertainment,Food and Drink,Music
ATTACH;FMTTYPE=image/jpeg:https://scarboroughlive.com.au/wp-content/uploads/2025/11/559026702_807709851637987_6784020605831628858_n.jpg
END:VEVENT
BEGIN:VEVENT
DTSTART;TZID=Asia/Shanghai:20260514T163000
DTEND;TZID=Asia/Shanghai:20260514T203000
DTSTAMP:20260422T041312
CREATED:20251121T035146Z
LAST-MODIFIED:20251121T035146Z
UID:10001607-1778776200-1778790600@scarboroughlive.com.au
SUMMARY:Scarborough Sunset Markets ~ Summer Season 25/26 @ Scarborough Sunset Markets
DESCRIPTION:🌞 Scarborough Sunset Markets 2025/26 – Summer Season is Back! \nThe sun’s out\, holidays are on the horizon\, and those long\, golden evenings are calling your name… which can only mean one thing – Scarborough Sunset Markets are BACK! \nFrom Thursday 6 November 2025 to 28 May 2026\, your favourite coastal ritual returns every week with epic eats\, artisan finds\, live tunes and that famous Indian Ocean sunset. \nThis season is all about slowing down and soaking it up – think salty air\, coastal chill\, delicious food from over 60+ foodies\, dreamy artisan stalls\, and laid-back acoustic sets in the Chill Out Lounge at the Scarborough Amphitheatre. \nSip\, snack and sink in – there’s even our pop-up beachside bar for those golden-hour moments. \n📆 Every Thursday | 5PM – 9PM\n📍Scarborough Beach Amphitheatre & The Esplanade\n✨Free Entry | Family & Dog Friendly\n#ScarboroughSunsetMarkets \n 
URL:https://scarboroughlive.com.au/event/scarborough-sunset-markets-summer-season-25-26-scarborough-sunset-markets-26/
LOCATION:Scarborough Sunsets Markets
CATEGORIES:Entertainment,Food and Drink,Music
ATTACH;FMTTYPE=image/jpeg:https://scarboroughlive.com.au/wp-content/uploads/2025/11/559026702_807709851637987_6784020605831628858_n.jpg
END:VEVENT
BEGIN:VEVENT
DTSTART;TZID=Asia/Shanghai:20260507T163000
DTEND;TZID=Asia/Shanghai:20260507T203000
DTSTAMP:20260422T041312
CREATED:20251121T035136Z
LAST-MODIFIED:20251121T035136Z
UID:10001606-1778171400-1778185800@scarboroughlive.com.au
SUMMARY:Scarborough Sunset Markets ~ Summer Season 25/26 @ Scarborough Sunset Markets
DESCRIPTION:🌞 Scarborough Sunset Markets 2025/26 – Summer Season is Back! \nThe sun’s out\, holidays are on the horizon\, and those long\, golden evenings are calling your name… which can only mean one thing – Scarborough Sunset Markets are BACK! \nFrom Thursday 6 November 2025 to 28 May 2026\, your favourite coastal ritual returns every week with epic eats\, artisan finds\, live tunes and that famous Indian Ocean sunset. \nThis season is all about slowing down and soaking it up – think salty air\, coastal chill\, delicious food from over 60+ foodies\, dreamy artisan stalls\, and laid-back acoustic sets in the Chill Out Lounge at the Scarborough Amphitheatre. \nSip\, snack and sink in – there’s even our pop-up beachside bar for those golden-hour moments. \n📆 Every Thursday | 5PM – 9PM\n📍Scarborough Beach Amphitheatre & The Esplanade\n✨Free Entry | Family & Dog Friendly\n#ScarboroughSunsetMarkets \n 
URL:https://scarboroughlive.com.au/event/scarborough-sunset-markets-summer-season-25-26-scarborough-sunset-markets-25/
LOCATION:Scarborough Sunsets Markets
CATEGORIES:Entertainment,Food and Drink,Music
ATTACH;FMTTYPE=image/jpeg:https://scarboroughlive.com.au/wp-content/uploads/2025/11/559026702_807709851637987_6784020605831628858_n.jpg
END:VEVENT
BEGIN:VEVENT
DTSTART;TZID=Asia/Shanghai:20260430T163000
DTEND;TZID=Asia/Shanghai:20260430T203000
DTSTAMP:20260422T041312
CREATED:20251121T034618Z
LAST-MODIFIED:20251121T034618Z
UID:10001605-1777566600-1777581000@scarboroughlive.com.au
SUMMARY:Scarborough Sunset Markets ~ Summer Season 25/26 @ Scarborough Sunset Markets
DESCRIPTION:🌞 Scarborough Sunset Markets 2025/26 – Summer Season is Back! \nThe sun’s out\, holidays are on the horizon\, and those long\, golden evenings are calling your name… which can only mean one thing – Scarborough Sunset Markets are BACK! \nFrom Thursday 6 November 2025 to 28 May 2026\, your favourite coastal ritual returns every week with epic eats\, artisan finds\, live tunes and that famous Indian Ocean sunset. \nThis season is all about slowing down and soaking it up – think salty air\, coastal chill\, delicious food from over 60+ foodies\, dreamy artisan stalls\, and laid-back acoustic sets in the Chill Out Lounge at the Scarborough Amphitheatre. \nSip\, snack and sink in – there’s even our pop-up beachside bar for those golden-hour moments. \n📆 Every Thursday | 5PM – 9PM\n📍Scarborough Beach Amphitheatre & The Esplanade\n✨Free Entry | Family & Dog Friendly\n#ScarboroughSunsetMarkets
URL:https://scarboroughlive.com.au/event/scarborough-sunset-markets-summer-season-25-26-scarborough-sunset-markets-24/
LOCATION:Scarborough Sunsets Markets
CATEGORIES:Entertainment,Food and Drink,Music
ATTACH;FMTTYPE=image/jpeg:https://scarboroughlive.com.au/wp-content/uploads/2025/11/559026702_807709851637987_6784020605831628858_n.jpg
END:VEVENT
BEGIN:VEVENT
DTSTART;TZID=Asia/Shanghai:20260423T163000
DTEND;TZID=Asia/Shanghai:20260423T203000
DTSTAMP:20260422T041312
CREATED:20251121T034123Z
LAST-MODIFIED:20251121T034123Z
UID:10001604-1776961800-1776976200@scarboroughlive.com.au
SUMMARY:Scarborough Sunset Markets ~ Summer Season 25/26 @ Scarborough Sunset Markets
DESCRIPTION:🌞 Scarborough Sunset Markets 2025/26 – Summer Season is Back! \nThe sun’s out\, holidays are on the horizon\, and those long\, golden evenings are calling your name… which can only mean one thing – Scarborough Sunset Markets are BACK! \nFrom Thursday 6 November 2025 to 28 May 2026\, your favourite coastal ritual returns every week with epic eats\, artisan finds\, live tunes and that famous Indian Ocean sunset. \nThis season is all about slowing down and soaking it up – think salty air\, coastal chill\, delicious food from over 60+ foodies\, dreamy artisan stalls\, and laid-back acoustic sets in the Chill Out Lounge at the Scarborough Amphitheatre. \nSip\, snack and sink in – there’s even our pop-up beachside bar for those golden-hour moments. \n📆 Every Thursday | 5PM – 9PM\n📍Scarborough Beach Amphitheatre & The Esplanade\n✨Free Entry | Family & Dog Friendly\n#ScarboroughSunsetMarkets \n 
URL:https://scarboroughlive.com.au/event/scarborough-sunset-markets-summer-season-25-26-scarborough-sunset-markets-23/
LOCATION:Scarborough Sunsets Markets
CATEGORIES:Entertainment,Food and Drink,Music
ATTACH;FMTTYPE=image/jpeg:https://scarboroughlive.com.au/wp-content/uploads/2025/11/559026702_807709851637987_6784020605831628858_n.jpg
END:VEVENT
END:VCALENDAR